BEGIN:VCALENDAR
VERSION:2.0
PRODID:-//Sherrill Milnes - ECPv6.15.20//NONSGML v1.0//EN
CALSCALE:GREGORIAN
METHOD:PUBLISH
X-WR-CALNAME:Sherrill Milnes
X-ORIGINAL-URL:https://www.sherrillmilnes.com
X-WR-CALDESC:Events for Sherrill Milnes
REFRESH-INTERVAL;VALUE=DURATION:PT1H
X-Robots-Tag:noindex
X-PUBLISHED-TTL:PT1H
BEGIN:VTIMEZONE
TZID:America/New_York
BEGIN:DAYLIGHT
TZOFFSETFROM:-0500
TZOFFSETTO:-0400
TZNAME:EDT
DTSTART:20200308T070000
END:DAYLIGHT
BEGIN:STANDARD
TZOFFSETFROM:-0400
TZOFFSETTO:-0500
TZNAME:EST
DTSTART:20201101T060000
END:STANDARD
BEGIN:DAYLIGHT
TZOFFSETFROM:-0500
TZOFFSETTO:-0400
TZNAME:EDT
DTSTART:20210314T070000
END:DAYLIGHT
BEGIN:STANDARD
TZOFFSETFROM:-0400
TZOFFSETTO:-0500
TZNAME:EST
DTSTART:20211107T060000
END:STANDARD
BEGIN:DAYLIGHT
TZOFFSETFROM:-0500
TZOFFSETTO:-0400
TZNAME:EDT
DTSTART:20220313T070000
END:DAYLIGHT
BEGIN:STANDARD
TZOFFSETFROM:-0400
TZOFFSETTO:-0500
TZNAME:EST
DTSTART:20221106T060000
END:STANDARD
END:VTIMEZONE
BEGIN:VEVENT
DTSTART;TZID=America/New_York:20210812T200000
DTEND;TZID=America/New_York:20210812T210000
DTSTAMP:20260423T222623
CREATED:20210714T235819Z
LAST-MODIFIED:20210812T212455Z
UID:3901-1628798400-1628802000@www.sherrillmilnes.com
SUMMARY:Song
DESCRIPTION:Song\nPerformance Time: 6pm & 8pm \nVenue: Telfair Academy \nTickets: $45 Premium & $27.50 Standard + $1.79 convenience fee \n8pm performance sponsored by The Salt Table \nInspired by the great writers and poets\, the Festival shares great song literature that includes world premieres of new works with emerging composers and young writers from the Deep Center Savannah. \nhttps://ci.ovationtix.com/35862/production/1060654
URL:https://www.sherrillmilnes.com/event/song-2/
LOCATION:Telfair Academy\, 121 Barnard St\, Savannah\, GA 31401\, USA
CATEGORIES:Savannah VOICE Festival Events
END:VEVENT
BEGIN:VEVENT
DTSTART;TZID=America/New_York:20210812T180000
DTEND;TZID=America/New_York:20210812T190000
DTSTAMP:20260423T222623
CREATED:20210713T235038Z
LAST-MODIFIED:20210812T212454Z
UID:3895-1628791200-1628794800@www.sherrillmilnes.com
SUMMARY:Song
DESCRIPTION:Song\nPerformance Time: 6pm & 8pm \nVenue: Telfair Academy \nTickets: $45 Premium & $27.50 Standard + $1.79 convenience fee \n6pm performance sponsored by Arlene & Allan Ratner \nInspired by the great writers and poets\, the Festival shares great song literature that includes world premieres of new works with emerging composers and young writers from the Deep Center Savannah. \nhttps://ci.ovationtix.com/35862/production/1060654
URL:https://www.sherrillmilnes.com/event/song/
LOCATION:Telfair Academy\, 121 Barnard St\, Savannah\, GA 31401\, USA
CATEGORIES:Savannah VOICE Festival Events
END:VEVENT
BEGIN:VEVENT
DTSTART;TZID=America/New_York:20210811T190000
DTEND;TZID=America/New_York:20210811T200000
DTSTAMP:20260423T222623
CREATED:20210712T234102Z
LAST-MODIFIED:20210811T212004Z
UID:3886-1628708400-1628712000@www.sherrillmilnes.com
SUMMARY:Headliner Reception
DESCRIPTION:Wine Reception\nTime: ~7pm \nVenue: Telfair Academy \nTickets: $20 \nSponsored by Sue and Bob Stephenson \nhttps://ci.ovationtix.com/35862/production/1061615
URL:https://www.sherrillmilnes.com/event/headliner-reception/
LOCATION:Telfair Academy\, 121 Barnard St\, Savannah\, GA 31401\, USA
CATEGORIES:Savannah VOICE Festival Events
END:VEVENT
BEGIN:VEVENT
DTSTART;TZID=America/New_York:20210811T180000
DTEND;TZID=America/New_York:20210811T190000
DTSTAMP:20260423T222623
CREATED:20210712T234102Z
LAST-MODIFIED:20210811T212004Z
UID:3885-1628704800-1628708400@www.sherrillmilnes.com
SUMMARY:Headliner (Liz Lang with Howard Watkins)
DESCRIPTION:Headliner (Liz Lang with Howard Watkins)\nPerformance Time: 6pm \nVenue: Telfair Academy \nTickets: $45 Premium & $27.50 Standard + $1.79 convenience fee \nSponsored by Nancy & Gary Radke \nATC 2019 Sherrill Milnes American Opera Award Winner Liz Lang – a fan favorite of the 2020 Stay-at-Home Season VIII – performs a recital with pianist Howard Watkins. \nhttps://ci.ovationtix.com/35862/production/1060532
URL:https://www.sherrillmilnes.com/event/headliner-liz-lang-with-howard-watkins/
LOCATION:Telfair Academy\, 121 Barnard St\, Savannah\, GA 31401\, USA
CATEGORIES:Savannah VOICE Festival Events
END:VEVENT
BEGIN:VEVENT
DTSTART;TZID=America/New_York:20210810T200000
DTEND;TZID=America/New_York:20210810T210000
DTSTAMP:20260423T222623
CREATED:20210712T234102Z
LAST-MODIFIED:20210810T211252Z
UID:3883-1628625600-1628629200@www.sherrillmilnes.com
SUMMARY:Aria
DESCRIPTION:Aria\nPerformance Time: 6pm & 8pm \nVenue: Telfair Academy \nTickets: $45 Premium & $27.50 Standard + $1.79 convenience fee \n8pm performance sponsored by Jeffrey & Cynthia Manocherian and Jan & Sam Durham \nAgainst the backdrop of the beautiful collection of the Telfair Academy\, classical voices fill the rotunda with opera’s greatest hits and some rarely heard gems. \nhttps://ci.ovationtix.com/35862/production/1060519
URL:https://www.sherrillmilnes.com/event/aria-2/
LOCATION:Telfair Academy\, 121 Barnard St\, Savannah\, GA 31401\, USA
CATEGORIES:Savannah VOICE Festival Events
END:VEVENT
BEGIN:VEVENT
DTSTART;TZID=America/New_York:20210810T180000
DTEND;TZID=America/New_York:20210810T190000
DTSTAMP:20260423T222623
CREATED:20210711T232712Z
LAST-MODIFIED:20210810T211252Z
UID:3875-1628618400-1628622000@www.sherrillmilnes.com
SUMMARY:Aria
DESCRIPTION:Aria\nPerformance Time: 6pm & 8pm \nVenue: Telfair Academy \nTickets: $45 Premium & $27.50 Standard + $1.79 convenience fee \n6pm performance sponsored by Dr. Harvey Lebos \nAgainst the backdrop of the beautiful collection of the Telfair Academy\, classical voices fill the rotunda with opera’s greatest hits and some rarely heard gems. \n \nhttps://ci.ovationtix.com/35862/production/1060519
URL:https://www.sherrillmilnes.com/event/aria/
LOCATION:Telfair Academy\, 121 Barnard St\, Savannah\, GA 31401\, USA
CATEGORIES:Savannah VOICE Festival Events
END:VEVENT
END:VCALENDAR