BEGIN:VCALENDAR
VERSION:2.0
PRODID:-//Sherrill Milnes - ECPv6.15.20//NONSGML v1.0//EN
CALSCALE:GREGORIAN
METHOD:PUBLISH
X-ORIGINAL-URL:https://www.sherrillmilnes.com
X-WR-CALDESC:Events for Sherrill Milnes
REFRESH-INTERVAL;VALUE=DURATION:PT1H
X-Robots-Tag:noindex
X-PUBLISHED-TTL:PT1H
BEGIN:VTIMEZONE
TZID:America/New_York
BEGIN:DAYLIGHT
TZOFFSETFROM:-0500
TZOFFSETTO:-0400
TZNAME:EDT
DTSTART:20210314T070000
END:DAYLIGHT
BEGIN:STANDARD
TZOFFSETFROM:-0400
TZOFFSETTO:-0500
TZNAME:EST
DTSTART:20211107T060000
END:STANDARD
BEGIN:DAYLIGHT
TZOFFSETFROM:-0500
TZOFFSETTO:-0400
TZNAME:EDT
DTSTART:20220313T070000
END:DAYLIGHT
BEGIN:STANDARD
TZOFFSETFROM:-0400
TZOFFSETTO:-0500
TZNAME:EST
DTSTART:20221106T060000
END:STANDARD
BEGIN:DAYLIGHT
TZOFFSETFROM:-0500
TZOFFSETTO:-0400
TZNAME:EDT
DTSTART:20230312T070000
END:DAYLIGHT
BEGIN:STANDARD
TZOFFSETFROM:-0400
TZOFFSETTO:-0500
TZNAME:EST
DTSTART:20231105T060000
END:STANDARD
END:VTIMEZONE
BEGIN:VEVENT
DTSTART;TZID=America/New_York:20221214T201500
DTEND;TZID=America/New_York:20221214T213000
DTSTAMP:20260423T182735
CREATED:20221213T195843Z
LAST-MODIFIED:20221214T195934Z
UID:5119-1671048900-1671053400@www.sherrillmilnes.com
SUMMARY:FREE Online Yoga with Darlene Bergener
DESCRIPTION:Ready to feel relaxed\, refreshed and recharged? Even though Darlene is now in Australia\, you can join FREE… from anywhere around the world!\nThur 12:15-1:30pm AEDT in Australia\nWed 8:15-9:30pm EST in the USA\nAll are welcome. No experience needed!\nJoin our incredible group to:\n*  Increase strength & energy so you can rock your day!\n*  Enjoy much deserved relaxation to calm when needed!\n*  Relieve discomforts like back & neck pain\, headaches & more!\n*  Reduce stress\, improve sleep\, and increase energy & vitality!\n*  Plus put kids to bed or put that computer down\, then enjoy some “You-Time” while you get healthier!\nClass will include gentle poses as well as more challenging practice options to suite a variety of levels.\nTo get access: Join here:\nJoin Zoom Meeting\nhttps://us02web.zoom.us/j/84154668238?pwd=Q05FOWdoYlk0bEpBdU9DVTdxVFhHZz09\nMeeting ID: 841 5466 8238\nPasscode: 656247\nPregnant or have an injury? No problem!\nI”ve taught for over 20years & can easily modify the practice to be safe\, enjoyable and effective for you!\nReach out to discuss any specific limitations or concerns.\nHi\, if you don’t know me\, I’m Darlene Bergener\, mechanical engineer turned yoga teacher\, myofascial release therapist\, birth doula and most importantly mom to 6 & 13 yr old girls!  It’s my passion and honor to share this practice with you!\nAny questions? Reach out! Look forward to practicing together!\nDarlene Bergener E-RYT500\, RPYT\, LMT\, CPMT\, CD(DONA)\nwww.bergenerhealth.com\nFB & IG bergener.health
URL:https://www.sherrillmilnes.com/event/free-online-yoga-with-darlene-bergener/
LOCATION:Online event
CATEGORIES:VOICExperience Events
END:VEVENT
END:VCALENDAR