BEGIN:VCALENDAR
VERSION:2.0
PRODID:-//Sherrill Milnes - ECPv6.15.20//NONSGML v1.0//EN
CALSCALE:GREGORIAN
METHOD:PUBLISH
X-ORIGINAL-URL:https://www.sherrillmilnes.com
X-WR-CALDESC:Events for Sherrill Milnes
REFRESH-INTERVAL;VALUE=DURATION:PT1H
X-Robots-Tag:noindex
X-PUBLISHED-TTL:PT1H
BEGIN:VTIMEZONE
TZID:America/New_York
BEGIN:DAYLIGHT
TZOFFSETFROM:-0500
TZOFFSETTO:-0400
TZNAME:EDT
DTSTART:20200308T070000
END:DAYLIGHT
BEGIN:STANDARD
TZOFFSETFROM:-0400
TZOFFSETTO:-0500
TZNAME:EST
DTSTART:20201101T060000
END:STANDARD
BEGIN:DAYLIGHT
TZOFFSETFROM:-0500
TZOFFSETTO:-0400
TZNAME:EDT
DTSTART:20210314T070000
END:DAYLIGHT
BEGIN:STANDARD
TZOFFSETFROM:-0400
TZOFFSETTO:-0500
TZNAME:EST
DTSTART:20211107T060000
END:STANDARD
BEGIN:DAYLIGHT
TZOFFSETFROM:-0500
TZOFFSETTO:-0400
TZNAME:EDT
DTSTART:20220313T070000
END:DAYLIGHT
BEGIN:STANDARD
TZOFFSETFROM:-0400
TZOFFSETTO:-0500
TZNAME:EST
DTSTART:20221106T060000
END:STANDARD
END:VTIMEZONE
BEGIN:VEVENT
DTSTART;TZID=America/New_York:20211130T080000
DTEND;TZID=America/New_York:20211130T200000
DTSTAMP:20260423T201518
CREATED:20211028T205243Z
LAST-MODIFIED:20211130T211544Z
UID:4261-1638259200-1638302400@www.sherrillmilnes.com
SUMMARY:Sherrill Milnes VOICE Programs Giving Tuesday Stream
DESCRIPTION:This Giving Tuesday the Savannah VOICE Festival will be hosting an ALL DAY STREAM of incredible shows you love! The stream will be held from 8 am to 8 pm on Tuesday\, November 30 on our website and our Facebook.  \nBe sure to donate to the VOICE Programs through either: \n\n\nPayPal Giving Fund – Give to SVF with no transaction fees! This means every dollar you donate goes to the program. \n\n\nFacebook – Make your gift go TWICE as far by donating through Facebook on Giving Tuesday! Be sure to donate early (donation matching begins at 8 am EST) to get the maximum opportunity out of your match! \n\n\nEndowment – Consider investing in the infrastructure and the future of this program by making a gift to our Endowment.  \n\n\nThis year Facebook will be MATCHING all donations beginning at 8 am EST up to $10M! To learn how to make a gift through Facebook\, click here. 
URL:https://www.sherrillmilnes.com/event/sherrill-milnes-voice-programs-giving-tuesday-stream/
LOCATION:https://www.savannahvoicefestival.org/donate/
CATEGORIES:VOICExperience Events
END:VEVENT
BEGIN:VEVENT
DTSTART;TZID=America/New_York:20211130T080000
DTEND;TZID=America/New_York:20211130T200000
DTSTAMP:20260423T201518
CREATED:20211022T211635Z
LAST-MODIFIED:20211130T224933Z
UID:4247-1638259200-1638302400@www.sherrillmilnes.com
SUMMARY:Sherrill Milnes VOICE Programs Giving Tuesday Stream
DESCRIPTION:This Giving Tuesday the Savannah VOICE Festival will be hosting an ALL DAY STREAM of incredible shows you love! The stream will be held from 8 am to 8 pm on Tuesday\, November 30 on our website and our Facebook.  \nBe sure to donate to the VOICE Programs through either: \n\n\nPayPal Giving Fund – Give to SVF with no transaction fees! This means every dollar you donate goes to the program. \n\n\nFacebook – Make your gift go TWICE as far by donating through Facebook on Giving Tuesday! Be sure to donate early (donation matching begins at 8 am EST) to get the maximum opportunity out of your match! \n\n\nEndowment – Consider investing in the infrastructure and the future of this program by making a gift to our Endowment.  \n\n\nThis year Facebook will be MATCHING all donations beginning at 8 am EST up to $10M! To learn how to make a gift through Facebook\, click here. 
URL:https://www.sherrillmilnes.com/event/giving-tuesday-svf-stream/
LOCATION:https://www.savannahvoicefestival.org/donate/
CATEGORIES:Savannah VOICE Festival Events
END:VEVENT
END:VCALENDAR