BEGIN:VCALENDAR
VERSION:2.0
PRODID:-//Sherrill Milnes - ECPv6.15.20//NONSGML v1.0//EN
CALSCALE:GREGORIAN
METHOD:PUBLISH
X-ORIGINAL-URL:https://www.sherrillmilnes.com
X-WR-CALDESC:Events for Sherrill Milnes
REFRESH-INTERVAL;VALUE=DURATION:PT1H
X-Robots-Tag:noindex
X-PUBLISHED-TTL:PT1H
BEGIN:VTIMEZONE
TZID:America/New_York
BEGIN:DAYLIGHT
TZOFFSETFROM:-0500
TZOFFSETTO:-0400
TZNAME:EDT
DTSTART:20200308T070000
END:DAYLIGHT
BEGIN:STANDARD
TZOFFSETFROM:-0400
TZOFFSETTO:-0500
TZNAME:EST
DTSTART:20201101T060000
END:STANDARD
BEGIN:DAYLIGHT
TZOFFSETFROM:-0500
TZOFFSETTO:-0400
TZNAME:EDT
DTSTART:20210314T070000
END:DAYLIGHT
BEGIN:STANDARD
TZOFFSETFROM:-0400
TZOFFSETTO:-0500
TZNAME:EST
DTSTART:20211107T060000
END:STANDARD
BEGIN:DAYLIGHT
TZOFFSETFROM:-0500
TZOFFSETTO:-0400
TZNAME:EDT
DTSTART:20220313T070000
END:DAYLIGHT
BEGIN:STANDARD
TZOFFSETFROM:-0400
TZOFFSETTO:-0500
TZNAME:EST
DTSTART:20221106T060000
END:STANDARD
END:VTIMEZONE
BEGIN:VEVENT
DTSTART;TZID=America/New_York:20211220T110000
DTEND;TZID=America/New_York:20211220T123000
DTSTAMP:20260423T184732
CREATED:20211013T192453Z
LAST-MODIFIED:20211218T235151Z
UID:4224-1639998000-1640003400@www.sherrillmilnes.com
SUMMARY:VOICES that Heal: "Soulful Meditation" - Stress Relief During the Holiday Season
DESCRIPTION:
URL:https://www.sherrillmilnes.com/event/voices-that-heal-soulful-meditation-stress-relief-during-the-holiday-season/
LOCATION:Demere Center\, 6000 Business Center Dr\, Savannah\, GA 31405\, USA
CATEGORIES:Savannah VOICE Festival Events
END:VEVENT
BEGIN:VEVENT
DTSTART;TZID=America/New_York:20210811T130000
DTEND;TZID=America/New_York:20210811T140000
DTSTAMP:20260423T184732
CREATED:20210712T234102Z
LAST-MODIFIED:20210810T211252Z
UID:3884-1628686800-1628690400@www.sherrillmilnes.com
SUMMARY:Master Class II
DESCRIPTION:Master Class II \nPerformance Time: 1pm \nVenue: Demere Center for Living \nTickets: Free (Reservations Required) \nSponsored by Jane Gilchrist and the Georgia Council for the Arts \nMetropolitan Opera Director Fabrizio Melano of the VOICE Faculty presents a master class with the study grant artists of the Milnes VOICE Studio. This program is sponsored in part by the Georgia Council for the Arts. \nhttps://ci.ovationtix.com/35862/production/1060526
URL:https://www.sherrillmilnes.com/event/master-class-ii/
LOCATION:Demere Center\, 6000 Business Center Dr\, Savannah\, GA 31405\, USA
CATEGORIES:Savannah VOICE Festival Events
END:VEVENT
BEGIN:VEVENT
DTSTART;TZID=America/New_York:20210810T130000
DTEND;TZID=America/New_York:20210810T140000
DTSTAMP:20260423T184732
CREATED:20210711T232712Z
LAST-MODIFIED:20210809T201231Z
UID:3873-1628600400-1628604000@www.sherrillmilnes.com
SUMMARY:Master Class I
DESCRIPTION:Master Class I\nPerformance Time: 1pm \nVenue: Demere Center for Living \nTickets: Free (Reservations Required) \nSponsored by Jane Gilchrist and the Georgia Council for the Arts \nMetropolitan Opera Assistant Conductor Howard Watkins of the VOICE Faculty presents a master class with the study grant artists of the Milnes VOICE Studio. This program is sponsored in part by the Georgia Council for the Arts. \nhttps://ci.ovationtix.com/35862/production/1060523
URL:https://www.sherrillmilnes.com/event/master-class-i/
LOCATION:Demere Center\, 6000 Business Center Dr\, Savannah\, GA 31405\, USA
CATEGORIES:Savannah VOICE Festival Events
END:VEVENT
END:VCALENDAR