BEGIN:VCALENDAR
VERSION:2.0
PRODID:-//Sherrill Milnes - ECPv6.15.20//NONSGML v1.0//EN
CALSCALE:GREGORIAN
METHOD:PUBLISH
X-WR-CALNAME:Sherrill Milnes
X-ORIGINAL-URL:https://www.sherrillmilnes.com
X-WR-CALDESC:Events for Sherrill Milnes
REFRESH-INTERVAL;VALUE=DURATION:PT1H
X-Robots-Tag:noindex
X-PUBLISHED-TTL:PT1H
BEGIN:VTIMEZONE
TZID:America/New_York
BEGIN:DAYLIGHT
TZOFFSETFROM:-0500
TZOFFSETTO:-0400
TZNAME:EDT
DTSTART:20200308T070000
END:DAYLIGHT
BEGIN:STANDARD
TZOFFSETFROM:-0400
TZOFFSETTO:-0500
TZNAME:EST
DTSTART:20201101T060000
END:STANDARD
BEGIN:DAYLIGHT
TZOFFSETFROM:-0500
TZOFFSETTO:-0400
TZNAME:EDT
DTSTART:20210314T070000
END:DAYLIGHT
BEGIN:STANDARD
TZOFFSETFROM:-0400
TZOFFSETTO:-0500
TZNAME:EST
DTSTART:20211107T060000
END:STANDARD
BEGIN:DAYLIGHT
TZOFFSETFROM:-0500
TZOFFSETTO:-0400
TZNAME:EDT
DTSTART:20220313T070000
END:DAYLIGHT
BEGIN:STANDARD
TZOFFSETFROM:-0400
TZOFFSETTO:-0500
TZNAME:EST
DTSTART:20221106T060000
END:STANDARD
END:VTIMEZONE
BEGIN:VEVENT
DTSTART;TZID=America/New_York:20210822T180000
DTEND;TZID=America/New_York:20210822T190000
DTSTAMP:20260423T184402
CREATED:20210723T200506Z
LAST-MODIFIED:20210822T000939Z
UID:3968-1629655200-1629658800@www.sherrillmilnes.com
SUMMARY:Finale Reception
DESCRIPTION:Finale Reception\nTime: ~6pm \nVenue: Charles H. Morris at Trustees’ Garden \nTickets: $45 +$1.79 convenience fee + $0.21 facility fee \nSponsored by Peg and Ron Morris \nhttps://ci.ovationtix.com/35862/production/1061526
URL:https://www.sherrillmilnes.com/event/finale-reception/
LOCATION:Charles H. Morris Center\, 10 E Broad St\, Savannah\, GA 31401\, USA
CATEGORIES:Savannah VOICE Festival Events
END:VEVENT
BEGIN:VEVENT
DTSTART;TZID=America/New_York:20210822T170000
DTEND;TZID=America/New_York:20210822T180000
DTSTAMP:20260423T184402
CREATED:20210723T200506Z
LAST-MODIFIED:20210822T000939Z
UID:3969-1629651600-1629655200@www.sherrillmilnes.com
SUMMARY:Finale
DESCRIPTION:Finale\nPerformance Time: 5pm \nVenue: Charles H. Morris Center at Trustees’ Garden \nTickets: $50 Premium & $32.50 Standard + $1.79 convenience fee \nSponsored by Naomi & Barry Cohen \nAll good things must come to an end! Celebrate the Savannah VOICE Festival Season Nine in this beautiful program as we look back on our LIVE Season and look forward to the tenth anniversary. \nhttps://ci.ovationtix.com/35862/production/1061525
URL:https://www.sherrillmilnes.com/event/finale/
LOCATION:Charles H. Morris Center\, 10 E Broad St\, Savannah\, GA 31401\, USA
CATEGORIES:Savannah VOICE Festival Events
END:VEVENT
BEGIN:VEVENT
DTSTART;TZID=America/New_York:20210820T200000
DTEND;TZID=America/New_York:20210820T210000
DTSTAMP:20260423T184402
CREATED:20210722T194010Z
LAST-MODIFIED:20210820T233209Z
UID:3957-1629489600-1629493200@www.sherrillmilnes.com
SUMMARY:Rock
DESCRIPTION:Rock\nPerformance Time: 6pm & 8pm \nVenue: Charles H. Morris Center at Trustees’ Garden  \nTickets: $45 Premium & $27.50 Standard + $1.79 convenience fee + $0.21 facility fee \n8pm performance sponsored by Winston Willis\, in memory of Barbara Lane \nWho said opera singers can’t rock it?! Festival Artists are joined by the Elite Party Band for a night of your favorite radio hits. \nhttps://ci.ovationtix.com/35862/production/1061514
URL:https://www.sherrillmilnes.com/event/rock-2/
LOCATION:Charles H. Morris Center\, 10 E Broad St\, Savannah\, GA 31401\, USA
CATEGORIES:Savannah VOICE Festival Events
END:VEVENT
BEGIN:VEVENT
DTSTART;TZID=America/New_York:20210820T180000
DTEND;TZID=America/New_York:20210820T190000
DTSTAMP:20260423T184402
CREATED:20210721T193938Z
LAST-MODIFIED:20210819T231733Z
UID:3951-1629482400-1629486000@www.sherrillmilnes.com
SUMMARY:Rock
DESCRIPTION:Rock\nPerformance Time: 6pm & 8pm \nVenue: Charles H. Morris Center at Trustees’ Garden  \nTickets: $45 Premium & $27.50 Standard + $1.79 convenience fee + $0.21 facility fee \n6pm performance sponsored by Audiology & Hearing Aid Associates and Norburg Chiropractic and Wellness Center \nWho said opera singers can’t rock it?! Festival Artists are joined by the Elite Party Band for a night of your favorite radio hits. \nhttps://ci.ovationtix.com/35862/production/1061514
URL:https://www.sherrillmilnes.com/event/rock/
LOCATION:Charles H. Morris Center\, 10 E Broad St\, Savannah\, GA 31401\, USA
CATEGORIES:Savannah VOICE Festival Events
END:VEVENT
BEGIN:VEVENT
DTSTART;TZID=America/New_York:20210819T200000
DTEND;TZID=America/New_York:20210819T210000
DTSTAMP:20260423T184402
CREATED:20210721T193938Z
LAST-MODIFIED:20210819T231733Z
UID:3950-1629403200-1629406800@www.sherrillmilnes.com
SUMMARY:Live
DESCRIPTION:Live\nPerformance Time: 6pm & 8pm  \nVenue: Charles H. Morris Center at Trustees’ Garden \nTickets: $45 Premium & $27.50 Standard + $1.79 convenience fee + $0.21 facility fee \nSponsored by Dr. Garry & Susan Spector \nA year of online streaming bursts past the computer screens into the Morris Center as we celebrate Savannah VOICE Festival LIVE! With artists you know and love\, along with the new faces of season nine\, don’t miss the passion and legacy of great opera\, hosted by Sherrill Milnes himself! \nhttps://ci.ovationtix.com/35862/production/1061512
URL:https://www.sherrillmilnes.com/event/live-2/
LOCATION:Charles H. Morris Center\, 10 E Broad St\, Savannah\, GA 31401\, USA
CATEGORIES:Savannah VOICE Festival Events
END:VEVENT
BEGIN:VEVENT
DTSTART;TZID=America/New_York:20210819T180000
DTEND;TZID=America/New_York:20210819T190000
DTSTAMP:20260423T184402
CREATED:20210720T191433Z
LAST-MODIFIED:20210818T231346Z
UID:3944-1629396000-1629399600@www.sherrillmilnes.com
SUMMARY:Live
DESCRIPTION:Live\nPerformance Time: 6pm & 8pm  \nVenue: Charles H. Morris Center at Trustees’ Garden \nTickets: $45 Premium & $27.50 Standard + $1.79 convenience fee + $0.21 facility fee \nSponsored by Dr. Garry & Susan Spector \nA year of online streaming bursts past the computer screens into the Morris Center as we celebrate Savannah VOICE Festival LIVE! With artists you know and love\, along with the new faces of season nine\, don’t miss the passion and legacy of great opera\, hosted by Sherrill Milnes himself! \nhttps://ci.ovationtix.com/35862/production/1061512
URL:https://www.sherrillmilnes.com/event/live/
LOCATION:Charles H. Morris Center\, 10 E Broad St\, Savannah\, GA 31401\, USA
CATEGORIES:Savannah VOICE Festival Events
END:VEVENT
BEGIN:VEVENT
DTSTART;TZID=America/New_York:20210818T200000
DTEND;TZID=America/New_York:20210818T210000
DTSTAMP:20260423T184402
CREATED:20210720T191433Z
LAST-MODIFIED:20210818T231346Z
UID:3943-1629316800-1629320400@www.sherrillmilnes.com
SUMMARY:Flashback
DESCRIPTION:Flashback\nPerformance Time: 6pm & 8pm \nVenue: Charles H. Morris Center at Trustees’ Garden \nTickets:$45 Premium & $27.50 Standard + $1.79 convenience fee + $0.21 facility fee \n8pm performance sponsored by Toby Hollenberg \nHow did we get here and where are we going next? Join the stars of the Stay-at-Home Season on screen as they relive the performances you loved in a new live format that includes some greatest moments of our best streams. \nhttps://ci.ovationtix.com/35862/production/1061510
URL:https://www.sherrillmilnes.com/event/flashback-2/
LOCATION:Charles H. Morris Center\, 10 E Broad St\, Savannah\, GA 31401\, USA
CATEGORIES:Savannah VOICE Festival Events
END:VEVENT
BEGIN:VEVENT
DTSTART;TZID=America/New_York:20210818T180000
DTEND;TZID=America/New_York:20210818T190000
DTSTAMP:20260423T184402
CREATED:20210719T190332Z
LAST-MODIFIED:20210818T231346Z
UID:3936-1629309600-1629313200@www.sherrillmilnes.com
SUMMARY:Flashback
DESCRIPTION:Flashback\nPerformance Time: 6pm & 8pm \nVenue: Charles H. Morris Center at Trustees’ Garden \nTickets:$45 Premium & $27.50 Standard + $1.79 convenience fee + $0.21 facility fee \n6pm performance sponsored by Carlton & Nancy Sheets \nHow did we get here and where are we going next? Join the stars of the Stay-at-Home Season on screen as they relive the performances you loved in a new live format that includes some greatest moments of our best streams. \nhttps://ci.ovationtix.com/35862/production/1061510
URL:https://www.sherrillmilnes.com/event/flashback/
LOCATION:Charles H. Morris Center\, 10 E Broad St\, Savannah\, GA 31401\, USA
CATEGORIES:Savannah VOICE Festival Events
END:VEVENT
BEGIN:VEVENT
DTSTART;TZID=America/New_York:20210817T200000
DTEND;TZID=America/New_York:20210817T210000
DTSTAMP:20260423T184402
CREATED:20210719T190332Z
LAST-MODIFIED:20210817T222140Z
UID:3934-1629230400-1629234000@www.sherrillmilnes.com
SUMMARY:Femme
DESCRIPTION:Femme\nPerformance Time: 6pm & 8pm \nVenue: Charles H. Morris Center at Trustees’ Garden \nTickets: $45 Premium & $27.50 Standard + $1.79 convenience fee + $0.21 facility fee \n8pm performance sponsored by Nancy Cunningham\, in memory of Rev. Augustine W. Cunningham\, O.S.B. \nIt’s a man’s world…or is it? Enjoy familiar opera arias\, songs and scenes with a new twist while discovering music by women composers.  \nhttps://ci.ovationtix.com/35862/production/1058849
URL:https://www.sherrillmilnes.com/event/femme-2/
LOCATION:Charles H. Morris Center\, 10 E Broad St\, Savannah\, GA 31401\, USA
CATEGORIES:Savannah VOICE Festival Events
END:VEVENT
BEGIN:VEVENT
DTSTART;TZID=America/New_York:20210817T180000
DTEND;TZID=America/New_York:20210817T190000
DTSTAMP:20260423T184402
CREATED:20210718T185902Z
LAST-MODIFIED:20210817T222140Z
UID:3928-1629223200-1629226800@www.sherrillmilnes.com
SUMMARY:Femme
DESCRIPTION:Femme\nPerformance Time: 6pm & 8pm \nVenue: Charles H. Morris Center at Trustees’ Garden \nTickets: $45 Premium & $27.50 Standard + $1.79 convenience fee + $0.21 facility fee \n6pm performance sponsored by Elliott C. Bardsley in memory of Marilyn Bardsley \nIt’s a man’s world…or is it? Enjoy familiar opera arias\, songs and scenes with a new twist while discovering music by women composers.  \nhttps://ci.ovationtix.com/35862/production/1058849
URL:https://www.sherrillmilnes.com/event/femme/
LOCATION:Charles H. Morris Center\, 10 E Broad St\, Savannah\, GA 31401\, USA
CATEGORIES:Savannah VOICE Festival Events
END:VEVENT
BEGIN:VEVENT
DTSTART;TZID=America/New_York:20210817T130000
DTEND;TZID=America/New_York:20210817T140000
DTSTAMP:20260423T184402
CREATED:20210718T185902Z
LAST-MODIFIED:20210816T214745Z
UID:3926-1629205200-1629208800@www.sherrillmilnes.com
SUMMARY:Master Class III
DESCRIPTION:Master Class III \nPerformance Time: 1pm \nVenue: Charles H. Morris Center at Trustees’ Garden \nTickets: Free (reservations required) \nSponsored by Jane Gilchrist and the Georgia Council for the Arts \nArtistic Director of the VOICE Programs and legendary operatic baritone Sherrill Milnes presents a master class with the study grant artists of the Milnes VOICE Studio. This program is sponsored in part by the Georgia Council for the Arts. \nhttps://ci.ovationtix.com/35862/production/1060529
URL:https://www.sherrillmilnes.com/event/master-class-iii/
LOCATION:Charles H. Morris Center\, 10 E Broad St\, Savannah\, GA 31401\, USA
CATEGORIES:Savannah VOICE Festival Events
END:VEVENT
END:VCALENDAR