BEGIN:VCALENDAR
VERSION:2.0
PRODID:-//Sherrill Milnes - ECPv6.15.20//NONSGML v1.0//EN
CALSCALE:GREGORIAN
METHOD:PUBLISH
X-WR-CALNAME:Sherrill Milnes
X-ORIGINAL-URL:https://www.sherrillmilnes.com
X-WR-CALDESC:Events for Sherrill Milnes
REFRESH-INTERVAL;VALUE=DURATION:PT1H
X-Robots-Tag:noindex
X-PUBLISHED-TTL:PT1H
BEGIN:VTIMEZONE
TZID:America/New_York
BEGIN:DAYLIGHT
TZOFFSETFROM:-0500
TZOFFSETTO:-0400
TZNAME:EDT
DTSTART:20200308T070000
END:DAYLIGHT
BEGIN:STANDARD
TZOFFSETFROM:-0400
TZOFFSETTO:-0500
TZNAME:EST
DTSTART:20201101T060000
END:STANDARD
BEGIN:DAYLIGHT
TZOFFSETFROM:-0500
TZOFFSETTO:-0400
TZNAME:EDT
DTSTART:20210314T070000
END:DAYLIGHT
BEGIN:STANDARD
TZOFFSETFROM:-0400
TZOFFSETTO:-0500
TZNAME:EST
DTSTART:20211107T060000
END:STANDARD
BEGIN:DAYLIGHT
TZOFFSETFROM:-0500
TZOFFSETTO:-0400
TZNAME:EDT
DTSTART:20220313T070000
END:DAYLIGHT
BEGIN:STANDARD
TZOFFSETFROM:-0400
TZOFFSETTO:-0500
TZNAME:EST
DTSTART:20221106T060000
END:STANDARD
END:VTIMEZONE
BEGIN:VEVENT
DTSTART;TZID=America/New_York:20210821T193000
DTEND;TZID=America/New_York:20210821T203000
DTSTAMP:20260423T184601
CREATED:20210722T194010Z
LAST-MODIFIED:20210822T000939Z
UID:3960-1629574200-1629577800@www.sherrillmilnes.com
SUMMARY:Bohème
DESCRIPTION:Bohème\nPerformance Time: Matinee 5pm & 7:30pm \nVenue: Asbury Memorial Church \nTickets: $50 Premium & $32.50 Standard + $1.79 convenience fee \n7:30pm performance sponsored by Carolyn Donovan \nPossibly the most famous opera of all time\, the Savannah VOICE Festival presents an abridged version of Puccini’s love story. Stage director Fabrizio Melano and Maestro Andrew Bisantz breathe new life into this timeless masterpiece. \nhttps://ci.ovationtix.com/35862/production/1061517
URL:https://www.sherrillmilnes.com/event/boheme-2/
LOCATION:Asbury Memorial Church\, 1008 E Henry St\, Savannah\, GA 31401\, USA
CATEGORIES:Savannah VOICE Festival Events
END:VEVENT
BEGIN:VEVENT
DTSTART;TZID=America/New_York:20210821T170000
DTEND;TZID=America/New_York:20210821T180000
DTSTAMP:20260423T184601
CREATED:20210722T194010Z
LAST-MODIFIED:20210820T233209Z
UID:3959-1629565200-1629568800@www.sherrillmilnes.com
SUMMARY:Bohème
DESCRIPTION:Bohème\nPerformance Time: Matinee 5pm & 7:30pm \nVenue: Asbury Memorial Church \nTickets: $50 Premium & $32.50 Standard + $1.79 convenience fee \n5pm performance sponsored by Marjorie & B.H. Levy \nPossibly the most famous opera of all time\, the Savannah VOICE Festival presents an abridged version of Puccini’s love story. Stage director Fabrizio Melano and Maestro Andrew Bisantz breathe new life into this timeless masterpiece. \nhttps://ci.ovationtix.com/35862/production/1061517
URL:https://www.sherrillmilnes.com/event/boheme/
LOCATION:Asbury Memorial Church\, 1008 E Henry St\, Savannah\, GA 31401\, USA
CATEGORIES:Savannah VOICE Festival Events
END:VEVENT
BEGIN:VEVENT
DTSTART;TZID=America/New_York:20210815T170000
DTEND;TZID=America/New_York:20210815T180000
DTSTAMP:20260423T184601
CREATED:20210717T184938Z
LAST-MODIFIED:20210815T214103Z
UID:3920-1629046800-1629050400@www.sherrillmilnes.com
SUMMARY:Inspiration
DESCRIPTION:Inspiration\nPerformance Times: 5pm \nVenue: Asbury Memorial Church \nTickets: $45 Premium & $27.50 Standard + $1.79 convenience fee \nSponsored by Dan & Phyllis HufferLed by Timothy L. Hall and directed by Jessica Ann Best\, this Festival favorite showcases the virtuosity and uplifting messages of sacred and spiritual music. \nhttps://ci.ovationtix.com/35862/production/1060828
URL:https://www.sherrillmilnes.com/event/inspiration/
LOCATION:Asbury Memorial Church\, 1008 E Henry St\, Savannah\, GA 31401\, USA
CATEGORIES:Savannah VOICE Festival Events
END:VEVENT
BEGIN:VEVENT
DTSTART;TZID=America/New_York:20210814T170000
DTEND;TZID=America/New_York:20210814T180000
DTSTAMP:20260423T184601
CREATED:20210716T000200Z
LAST-MODIFIED:20210814T213556Z
UID:3913-1628960400-1628964000@www.sherrillmilnes.com
SUMMARY:Feast
DESCRIPTION:Feast\n \nPerformance Time: 5pm  \nVenue: Asbury Memorial Church \nTickets: $45 Premium & $27.50 Standard + $1.79 convenience fee \nSponsored by Jane Gilchrist \nThe world premiere workshop of Michael Ching’s “A Royal Feast.” Savannah VOICE Festival joins with the Esther F. Garrison School for the Arts to present this imaginative story of Cinderella after her wedding to Prince Charming. This sequel to Rossini’s La Cenerentola is a magical event with a special message for the whole family. \nhttps://ci.ovationtix.com/35862/production/1060709
URL:https://www.sherrillmilnes.com/event/feast/
LOCATION:Asbury Memorial Church\, 1008 E Henry St\, Savannah\, GA 31401\, USA
CATEGORIES:Savannah VOICE Festival Events
END:VEVENT
BEGIN:VEVENT
DTSTART;TZID=America/New_York:20210813T200000
DTEND;TZID=America/New_York:20210813T210000
DTSTAMP:20260423T184601
CREATED:20210716T000159Z
LAST-MODIFIED:20210813T213007Z
UID:3910-1628884800-1628888400@www.sherrillmilnes.com
SUMMARY:Broadway
DESCRIPTION:Broadway\nPerformance Time: 6pm & 8pm \nVenue: Asbury Memorial Church \nTickets: $45 Premium & $27.50 Standard + $1.79 convenience fee \n8pm performance sponsored by Ron & Peg Morris \nJust in time for the re-opening of Broadway theatres\, Festival Artists share tunes to launch you back to the Great White Way! \nhttps://ci.ovationtix.com/35862/production/1060672
URL:https://www.sherrillmilnes.com/event/broadway-2/
LOCATION:Asbury Memorial Church\, 1008 E Henry St\, Savannah\, GA 31401\, USA
CATEGORIES:Savannah VOICE Festival Events
END:VEVENT
BEGIN:VEVENT
DTSTART;TZID=America/New_York:20210813T180000
DTEND;TZID=America/New_York:20210813T190000
DTSTAMP:20260423T184601
CREATED:20210714T235819Z
LAST-MODIFIED:20210813T213007Z
UID:3903-1628877600-1628881200@www.sherrillmilnes.com
SUMMARY:Broadway
DESCRIPTION:Broadway\nPerformance Time: 6pm & 8pm \nVenue: Asbury Memorial Church \nTickets: $45 Premium & $27.50 Standard + $1.79 convenience fee \n6pm performance sponsored by Jean & John Fishburne \nJust in time for the re-opening of Broadway theatres\, Festival Artists share tunes to launch you back to the Great White Way! \nhttps://ci.ovationtix.com/35862/production/1060672
URL:https://www.sherrillmilnes.com/event/broadway/
LOCATION:Asbury Memorial Church\, 1008 E Henry St\, Savannah\, GA 31401\, USA
CATEGORIES:Savannah VOICE Festival Events
END:VEVENT
END:VCALENDAR