BEGIN:VCALENDAR
VERSION:2.0
PRODID:-//Sherrill Milnes - ECPv6.15.20//NONSGML v1.0//EN
CALSCALE:GREGORIAN
METHOD:PUBLISH
X-ORIGINAL-URL:https://www.sherrillmilnes.com
X-WR-CALDESC:Events for Sherrill Milnes
REFRESH-INTERVAL;VALUE=DURATION:PT1H
X-Robots-Tag:noindex
X-PUBLISHED-TTL:PT1H
BEGIN:VTIMEZONE
TZID:America/New_York
BEGIN:DAYLIGHT
TZOFFSETFROM:-0500
TZOFFSETTO:-0400
TZNAME:EDT
DTSTART:20190310T070000
END:DAYLIGHT
BEGIN:STANDARD
TZOFFSETFROM:-0400
TZOFFSETTO:-0500
TZNAME:EST
DTSTART:20191103T060000
END:STANDARD
BEGIN:DAYLIGHT
TZOFFSETFROM:-0500
TZOFFSETTO:-0400
TZNAME:EDT
DTSTART:20200308T070000
END:DAYLIGHT
BEGIN:STANDARD
TZOFFSETFROM:-0400
TZOFFSETTO:-0500
TZNAME:EST
DTSTART:20201101T060000
END:STANDARD
BEGIN:DAYLIGHT
TZOFFSETFROM:-0500
TZOFFSETTO:-0400
TZNAME:EDT
DTSTART:20210314T070000
END:DAYLIGHT
BEGIN:STANDARD
TZOFFSETFROM:-0400
TZOFFSETTO:-0500
TZNAME:EST
DTSTART:20211107T060000
END:STANDARD
END:VTIMEZONE
BEGIN:VEVENT
DTSTART;TZID=America/New_York:20201205T160000
DTEND;TZID=America/New_York:20201205T162500
DTSTAMP:20260423T235323
CREATED:20201118T200005Z
LAST-MODIFIED:20201204T224517Z
UID:3065-1607184000-1607185500@www.sherrillmilnes.com
SUMMARY:VOICES on the Sqaures - Johnson Square
DESCRIPTION:This 25-minute concert will take place in three different locations on Saturday December 5.  ‘VOICES on the Squares’ will feature soprano Jessica Fishenfeld and tenor Scott Joiner performing holiday favorites and operatic favorites.
URL:https://www.sherrillmilnes.com/event/voices-on-the-sqaures-johnson-square/
LOCATION:Johnson Square\, Savannah\, GA 31401\, USA
CATEGORIES:Savannah VOICE Festival Events
END:VEVENT
BEGIN:VEVENT
DTSTART;TZID=America/New_York:20201116T110000
DTEND;TZID=America/New_York:20201116T110000
DTSTAMP:20260423T235323
CREATED:20201022T000942Z
LAST-MODIFIED:20201115T211151Z
UID:2911-1605524400-1605524400@www.sherrillmilnes.com
SUMMARY:Inside the VOICE Studio (Matinee Replay)
DESCRIPTION:
URL:https://www.sherrillmilnes.com/event/inside-the-voice-studio-matinee-replay/
CATEGORIES:VOICExperience Events
END:VEVENT
BEGIN:VEVENT
DTSTART;TZID=America/New_York:20201115T190000
DTEND;TZID=America/New_York:20201115T190000
DTSTAMP:20260423T235323
CREATED:20201022T000942Z
LAST-MODIFIED:20201115T211151Z
UID:2910-1605466800-1605466800@www.sherrillmilnes.com
SUMMARY:Inside the VOICE Studio (Performance 2)
DESCRIPTION:
URL:https://www.sherrillmilnes.com/event/inside-the-voice-studio-performance-2/
CATEGORIES:VOICExperience Events
END:VEVENT
BEGIN:VEVENT
DTSTART;TZID=America/New_York:20201115T170000
DTEND;TZID=America/New_York:20201115T170000
DTSTAMP:20260423T235323
CREATED:20201021T153007Z
LAST-MODIFIED:20201115T211151Z
UID:2897-1605459600-1605459600@www.sherrillmilnes.com
SUMMARY:Inside the VOICE Studio
DESCRIPTION:
URL:https://www.sherrillmilnes.com/event/inside-the-voice-studio/
CATEGORIES:VOICExperience Events
END:VEVENT
BEGIN:VEVENT
DTSTART;VALUE=DATE:20201101
DTEND;VALUE=DATE:20201102
DTSTAMP:20260423T235323
CREATED:20201022T000942Z
LAST-MODIFIED:20201031T191142Z
UID:2908-1604188800-1604275199@www.sherrillmilnes.com
SUMMARY:Milnes VOICE Programs Applications Open
DESCRIPTION:
URL:https://www.sherrillmilnes.com/event/milnes-voice-programs-applications-open/
CATEGORIES:VOICExperience Events
END:VEVENT
BEGIN:VEVENT
DTSTART;TZID=America/New_York:20201031T110000
DTEND;TZID=America/New_York:20201031T110000
DTSTAMP:20260423T235323
CREATED:20201021T160014Z
LAST-MODIFIED:20201030T194648Z
UID:2900-1604142000-1604142000@www.sherrillmilnes.com
SUMMARY:An All Hallow's Night of Streams (Matinee Replay)
DESCRIPTION:
URL:https://www.sherrillmilnes.com/event/an-all-hallows-night-of-streams-matinee-replay/
CATEGORIES:Savannah VOICE Festival Events
END:VEVENT
BEGIN:VEVENT
DTSTART;TZID=America/New_York:20201030T210000
DTEND;TZID=America/New_York:20201030T210000
DTSTAMP:20260423T235323
CREATED:20201021T160014Z
LAST-MODIFIED:20201030T194648Z
UID:2899-1604091600-1604091600@www.sherrillmilnes.com
SUMMARY:An All Hallow's Night of Streams (Performance 2)
DESCRIPTION:
URL:https://www.sherrillmilnes.com/event/an-all-hallows-night-of-streams-performance-2/
CATEGORIES:Savannah VOICE Festival Events
END:VEVENT
BEGIN:VEVENT
DTSTART;TZID=America/New_York:20201030T190000
DTEND;TZID=America/New_York:20201030T190000
DTSTAMP:20260423T235323
CREATED:20201019T174342Z
LAST-MODIFIED:20201030T194648Z
UID:2786-1604084400-1604084400@www.sherrillmilnes.com
SUMMARY:An All Hallow's Night of Streams
DESCRIPTION:
URL:https://www.sherrillmilnes.com/event/an-all-hallows-night-of-streams-2/
CATEGORIES:Savannah VOICE Festival Events
END:VEVENT
END:VCALENDAR