BEGIN:VCALENDAR
VERSION:2.0
PRODID:-//Sherrill Milnes - ECPv6.15.20//NONSGML v1.0//EN
CALSCALE:GREGORIAN
METHOD:PUBLISH
X-ORIGINAL-URL:https://www.sherrillmilnes.com
X-WR-CALDESC:Events for Sherrill Milnes
REFRESH-INTERVAL;VALUE=DURATION:PT1H
X-Robots-Tag:noindex
X-PUBLISHED-TTL:PT1H
BEGIN:VTIMEZONE
TZID:America/New_York
BEGIN:DAYLIGHT
TZOFFSETFROM:-0500
TZOFFSETTO:-0400
TZNAME:EDT
DTSTART:20190310T070000
END:DAYLIGHT
BEGIN:STANDARD
TZOFFSETFROM:-0400
TZOFFSETTO:-0500
TZNAME:EST
DTSTART:20191103T060000
END:STANDARD
BEGIN:DAYLIGHT
TZOFFSETFROM:-0500
TZOFFSETTO:-0400
TZNAME:EDT
DTSTART:20200308T070000
END:DAYLIGHT
BEGIN:STANDARD
TZOFFSETFROM:-0400
TZOFFSETTO:-0500
TZNAME:EST
DTSTART:20201101T060000
END:STANDARD
BEGIN:DAYLIGHT
TZOFFSETFROM:-0500
TZOFFSETTO:-0400
TZNAME:EDT
DTSTART:20210314T070000
END:DAYLIGHT
BEGIN:STANDARD
TZOFFSETFROM:-0400
TZOFFSETTO:-0500
TZNAME:EST
DTSTART:20211107T060000
END:STANDARD
BEGIN:DAYLIGHT
TZOFFSETFROM:-0500
TZOFFSETTO:-0400
TZNAME:EDT
DTSTART:20220313T070000
END:DAYLIGHT
BEGIN:STANDARD
TZOFFSETFROM:-0400
TZOFFSETTO:-0500
TZNAME:EST
DTSTART:20221106T060000
END:STANDARD
END:VTIMEZONE
BEGIN:VEVENT
DTSTART;VALUE=DATE:20210129
DTEND;VALUE=DATE:20210130
DTSTAMP:20260423T220305
CREATED:20201230T184057Z
LAST-MODIFIED:20210129T221549Z
UID:3212-1611878400-1611964799@www.sherrillmilnes.com
SUMMARY:Milnes VOICE Programs Applications Close
DESCRIPTION:
URL:https://www.sherrillmilnes.com/event/milnes-voice-programs-applications-close/
CATEGORIES:VOICExperience Events
END:VEVENT
BEGIN:VEVENT
DTSTART;TZID=America/New_York:20210125T190000
DTEND;TZID=America/New_York:20210125T190000
DTSTAMP:20260423T220305
CREATED:20201227T203757Z
LAST-MODIFIED:20210125T212751Z
UID:3202-1611601200-1611601200@www.sherrillmilnes.com
SUMMARY:Masters in VOICE: James Morris
DESCRIPTION:
URL:https://www.sherrillmilnes.com/event/masters-in-voice-james-morris/
CATEGORIES:Savannah VOICE Festival Events
END:VEVENT
BEGIN:VEVENT
DTSTART;TZID=America/New_York:20201223T210000
DTEND;TZID=America/New_York:20201223T220000
DTSTAMP:20260423T220305
CREATED:20201218T192806Z
LAST-MODIFIED:20201222T195823Z
UID:3173-1608757200-1608760800@www.sherrillmilnes.com
SUMMARY:Home for the Holidays on WRUU
DESCRIPTION:Celebrate the holidays with music from all around the world\, as our artists bring you into their homes for an evening of beautiful holiday traditions. The Savannah VOICE Festival\, in partnership with VOICExperience Foundation\, brings you a holiday special that will inspire you to sit by the fire\, sip on cocoa\, and sing along.\nWRUU 107.5 FM Savannah\nwww.wruu.org
URL:https://www.sherrillmilnes.com/event/home-for-the-holidays-on-wruu/
CATEGORIES:Savannah VOICE Festival Events
END:VEVENT
BEGIN:VEVENT
DTSTART;TZID=America/New_York:20201215T190000
DTEND;TZID=America/New_York:20201215T190000
DTSTAMP:20260423T220305
CREATED:20201116T194020Z
LAST-MODIFIED:20201213T181547Z
UID:3055-1608058800-1608058800@www.sherrillmilnes.com
SUMMARY:VOICES That Heal: Music in a Time of Change
DESCRIPTION:Sponsored by Winston J. Willis in loving memory of his wife\, Barbara Willis. \nHospice Savannah is proud to partner with the Savannah VOICE Festival to present a series of informative “listening labs” featuring songs and music from various genres which comfort\, soothe and heal the soul. The next listening lab features the Festival’s Education and Outreach Coordinator\, Chad Sonka\, and our former Certified Music Therapist\, Sara Breyfogle. \nwww.hospicesavannah.org/voicesthatheal
URL:https://www.sherrillmilnes.com/event/voices-that-heal-music-in-a-time-of-change-2/
CATEGORIES:Savannah VOICE Festival Events
END:VEVENT
BEGIN:VEVENT
DTSTART;TZID=America/New_York:20201215T110000
DTEND;TZID=America/New_York:20201215T110000
DTSTAMP:20260423T220305
CREATED:20201115T193101Z
LAST-MODIFIED:20201213T181547Z
UID:3049-1608030000-1608030000@www.sherrillmilnes.com
SUMMARY:VOICES That Heal: Music in a Time of Change
DESCRIPTION:Sponsored by Winston J. Willis in loving memory of his wife\, Barbara Willis. \nHospice Savannah is proud to partner with the Savannah VOICE Festival to present a series of informative “listening labs” featuring songs and music from various genres which comfort\, soothe and heal the soul. The next listening lab features the Festival’s Education and Outreach Coordinator\, Chad Sonka\, and our former Certified Music Therapist\, Sara Breyfogle.
URL:https://www.sherrillmilnes.com/event/voices-that-heal-music-in-a-time-of-change/
CATEGORIES:Savannah VOICE Festival Events
END:VEVENT
BEGIN:VEVENT
DTSTART;TZID=America/New_York:20201214T190000
DTEND;TZID=America/New_York:20201214T190000
DTSTAMP:20260423T220305
CREATED:20201115T193101Z
LAST-MODIFIED:20201213T181547Z
UID:3048-1607972400-1607972400@www.sherrillmilnes.com
SUMMARY:Masters in VOICE: Fabrizio Melano & Laura Melano Flanagan
DESCRIPTION:In this Masterclass\, VOICExperience faculty and renowned opera director Fabrizio Melano\, alongside psychotherapist Laura Melano Flanagan work with 2020 Milnes VOICE Studio Artists on dramatic interpretation of their repertoire. Soprano Lauren Auge\, working on Mimì from La Bohème is a featured artist in this class. \nwww.savannahvoicefestival.org/nowshowing
URL:https://www.sherrillmilnes.com/event/masters-in-voice-fabrizio-melano-laura-melano-flanagan/
CATEGORIES:Savannah VOICE Festival Events
END:VEVENT
BEGIN:VEVENT
DTSTART;TZID=America/New_York:20201214T110000
DTEND;TZID=America/New_York:20201214T110000
DTSTAMP:20260423T220305
CREATED:20201114T191622Z
LAST-MODIFIED:20201213T181547Z
UID:3042-1607943600-1607943600@www.sherrillmilnes.com
SUMMARY:Home for the Holidays (Matinee Replay)
DESCRIPTION:Sponsored by Critz Auto Group\nCelebrate the holidays with music from all around the world\, as our artists bring you into their homes for an evening of beautiful holiday traditions. The Savannah VOICE Festival\, in partnership with VOICExperience Foundation\, brings you a holiday special that will inspire you to sit by the fire\, sip on cocoa\, and sing along.\nFree for everyone.\nwww.savannahvoicefestival.org/nowshowing
URL:https://www.sherrillmilnes.com/event/home-for-the-holidays-matinee-replay/
CATEGORIES:Savannah VOICE Festival Events
END:VEVENT
BEGIN:VEVENT
DTSTART;TZID=America/New_York:20201213T190000
DTEND;TZID=America/New_York:20201213T190000
DTSTAMP:20260423T220305
CREATED:20201114T191622Z
LAST-MODIFIED:20201213T181547Z
UID:3041-1607886000-1607886000@www.sherrillmilnes.com
SUMMARY:Home for the Holidays (Performance 2)
DESCRIPTION:Sponsored by Critz Auto Group\nCelebrate the holidays with music from all around the world\, as our artists bring you into their homes for an evening of beautiful holiday traditions. The Savannah VOICE Festival\, in partnership with VOICExperience Foundation\, brings you a holiday special that will inspire you to sit by the fire\, sip on cocoa\, and sing along.\nFree for everyone.\nwww.savannahvoicefestival.org/nowshowing
URL:https://www.sherrillmilnes.com/event/home-for-the-holidays-performance-2/
CATEGORIES:Savannah VOICE Festival Events
END:VEVENT
BEGIN:VEVENT
DTSTART;TZID=America/New_York:20201213T170000
DTEND;TZID=America/New_York:20201213T170000
DTSTAMP:20260423T220305
CREATED:20201113T190904Z
LAST-MODIFIED:20201213T181547Z
UID:3036-1607878800-1607878800@www.sherrillmilnes.com
SUMMARY:Home for the Holidays
DESCRIPTION:Sponsored by Critz Auto Group\nCelebrate the holidays with music from all around the world\, as our artists bring you into their homes for an evening of beautiful holiday traditions. The Savannah VOICE Festival\, in partnership with VOICExperience Foundation\, brings you a holiday special that will inspire you to sit by the fire\, sip on cocoa\, and sing along.\nFree for everyone.\nwww.savannahvoicefestival.org/nowshowing
URL:https://www.sherrillmilnes.com/event/home-for-the-holidays/
CATEGORIES:Savannah VOICE Festival Events
END:VEVENT
BEGIN:VEVENT
DTSTART;TZID=America/New_York:20201206T170000
DTEND;TZID=America/New_York:20201206T170000
DTSTAMP:20260423T220305
CREATED:20201111T185850Z
LAST-MODIFIED:20201205T225546Z
UID:3029-1607274000-1607274000@www.sherrillmilnes.com
SUMMARY:Hospice Savannah: Tree of Light
DESCRIPTION:Mayor Van Johnson will speak at the virtual gathering\, and inspirational music will be performed by professional singers from across the globe in partnership with the Savannah VOICE Festival.  Names of those recognized with a donation in their honor or memory will scroll throughout the forty-five minute gathering\, and a moment of prayer will be provided by leaders from various faith groups in our community.\nwww.hospicesavannah.org/treeoflight
URL:https://www.sherrillmilnes.com/event/hospice-savannah-tree-of-light/
CATEGORIES:Savannah VOICE Festival Events
END:VEVENT
BEGIN:VEVENT
DTSTART;TZID=America/New_York:20201205T183000
DTEND;TZID=America/New_York:20201205T185500
DTSTAMP:20260423T220305
CREATED:20201118T200005Z
LAST-MODIFIED:20201205T225545Z
UID:3069-1607193000-1607194500@www.sherrillmilnes.com
SUMMARY:VOICES on the Square - Columbia Square
DESCRIPTION:This 25-minute concert will take place in three different locations on Saturday December 5.  ‘VOICES on the Squares’ will feature soprano Jessica Fishenfeld and tenor Scott Joiner performing holiday favorites and operatic favorites.
URL:https://www.sherrillmilnes.com/event/voices-on-the-square-columbia-square/
LOCATION:Davenport House Museum\, 324 E State St\, Savannah\, GA 31401\, USA
CATEGORIES:Savannah VOICE Festival Events
END:VEVENT
BEGIN:VEVENT
DTSTART;TZID=America/New_York:20201205T170000
DTEND;TZID=America/New_York:20201205T172500
DTSTAMP:20260423T220305
CREATED:20201118T200005Z
LAST-MODIFIED:20201204T224517Z
UID:3067-1607187600-1607189100@www.sherrillmilnes.com
SUMMARY:VOICES on the Squares - Chippewa Square
DESCRIPTION:This 25-minute concert will take place in three different locations on Saturday December 5.  ‘VOICES on the Squares’ will feature soprano Jessica Fishenfeld and tenor Scott Joiner performing holiday favorites and operatic favorites.
URL:https://www.sherrillmilnes.com/event/voices-on-the-squares-chippewa-square/
LOCATION:Chippewa Square Savannah GA
CATEGORIES:Savannah VOICE Festival Events
END:VEVENT
BEGIN:VEVENT
DTSTART;TZID=America/New_York:20201205T160000
DTEND;TZID=America/New_York:20201205T162500
DTSTAMP:20260423T220305
CREATED:20201118T200005Z
LAST-MODIFIED:20201204T224517Z
UID:3065-1607184000-1607185500@www.sherrillmilnes.com
SUMMARY:VOICES on the Sqaures - Johnson Square
DESCRIPTION:This 25-minute concert will take place in three different locations on Saturday December 5.  ‘VOICES on the Squares’ will feature soprano Jessica Fishenfeld and tenor Scott Joiner performing holiday favorites and operatic favorites.
URL:https://www.sherrillmilnes.com/event/voices-on-the-sqaures-johnson-square/
LOCATION:Johnson Square\, Savannah\, GA 31401\, USA
CATEGORIES:Savannah VOICE Festival Events
END:VEVENT
BEGIN:VEVENT
DTSTART;TZID=America/New_York:20201116T110000
DTEND;TZID=America/New_York:20201116T110000
DTSTAMP:20260423T220305
CREATED:20201022T000942Z
LAST-MODIFIED:20201115T211151Z
UID:2911-1605524400-1605524400@www.sherrillmilnes.com
SUMMARY:Inside the VOICE Studio (Matinee Replay)
DESCRIPTION:
URL:https://www.sherrillmilnes.com/event/inside-the-voice-studio-matinee-replay/
CATEGORIES:VOICExperience Events
END:VEVENT
BEGIN:VEVENT
DTSTART;TZID=America/New_York:20201115T190000
DTEND;TZID=America/New_York:20201115T190000
DTSTAMP:20260423T220305
CREATED:20201022T000942Z
LAST-MODIFIED:20201115T211151Z
UID:2910-1605466800-1605466800@www.sherrillmilnes.com
SUMMARY:Inside the VOICE Studio (Performance 2)
DESCRIPTION:
URL:https://www.sherrillmilnes.com/event/inside-the-voice-studio-performance-2/
CATEGORIES:VOICExperience Events
END:VEVENT
BEGIN:VEVENT
DTSTART;TZID=America/New_York:20201115T170000
DTEND;TZID=America/New_York:20201115T170000
DTSTAMP:20260423T220305
CREATED:20201021T153007Z
LAST-MODIFIED:20201115T211151Z
UID:2897-1605459600-1605459600@www.sherrillmilnes.com
SUMMARY:Inside the VOICE Studio
DESCRIPTION:
URL:https://www.sherrillmilnes.com/event/inside-the-voice-studio/
CATEGORIES:VOICExperience Events
END:VEVENT
BEGIN:VEVENT
DTSTART;VALUE=DATE:20201101
DTEND;VALUE=DATE:20201102
DTSTAMP:20260423T220305
CREATED:20201022T000942Z
LAST-MODIFIED:20201031T191142Z
UID:2908-1604188800-1604275199@www.sherrillmilnes.com
SUMMARY:Milnes VOICE Programs Applications Open
DESCRIPTION:
URL:https://www.sherrillmilnes.com/event/milnes-voice-programs-applications-open/
CATEGORIES:VOICExperience Events
END:VEVENT
BEGIN:VEVENT
DTSTART;TZID=America/New_York:20201031T110000
DTEND;TZID=America/New_York:20201031T110000
DTSTAMP:20260423T220305
CREATED:20201021T160014Z
LAST-MODIFIED:20201030T194648Z
UID:2900-1604142000-1604142000@www.sherrillmilnes.com
SUMMARY:An All Hallow's Night of Streams (Matinee Replay)
DESCRIPTION:
URL:https://www.sherrillmilnes.com/event/an-all-hallows-night-of-streams-matinee-replay/
CATEGORIES:Savannah VOICE Festival Events
END:VEVENT
BEGIN:VEVENT
DTSTART;TZID=America/New_York:20201030T210000
DTEND;TZID=America/New_York:20201030T210000
DTSTAMP:20260423T220305
CREATED:20201021T160014Z
LAST-MODIFIED:20201030T194648Z
UID:2899-1604091600-1604091600@www.sherrillmilnes.com
SUMMARY:An All Hallow's Night of Streams (Performance 2)
DESCRIPTION:
URL:https://www.sherrillmilnes.com/event/an-all-hallows-night-of-streams-performance-2/
CATEGORIES:Savannah VOICE Festival Events
END:VEVENT
BEGIN:VEVENT
DTSTART;TZID=America/New_York:20201030T190000
DTEND;TZID=America/New_York:20201030T190000
DTSTAMP:20260423T220305
CREATED:20201019T174342Z
LAST-MODIFIED:20201030T194648Z
UID:2786-1604084400-1604084400@www.sherrillmilnes.com
SUMMARY:An All Hallow's Night of Streams
DESCRIPTION:
URL:https://www.sherrillmilnes.com/event/an-all-hallows-night-of-streams-2/
CATEGORIES:Savannah VOICE Festival Events
END:VEVENT
END:VCALENDAR